BEGIN:VCALENDAR
VERSION:2.0
PRODID:Events Booking
BEGIN:VEVENT
UID:69e7a26115c17
SUMMARY:CURS PRESENCIAL: Salut mental comunitària i benestar: estratègies
  per a una pràctica professional sostenible i humanitzadora
DESCRIPTION:Aquesta formació et convida a explorar una nova mirada a la in
 tervenció social\, connectant la salut mental comunitària i el paradigma
  de recuperació amb eines per al teu benestar professional. Descobrirem c
 om posar la persona al centre\, entendre les seves necessitats i drets\, i
  construir un acompanyament més humà i sostenible.
LOCATION:Carrer d'Aragó\, 141\, 08015 Barcelona\, España
DTSTART:20251002T160000Z
DTEND:20251023T193000Z
DTSTAMP:20260421T171425Z
ORGANIZER;CN=CEESC FORMACIÓ:MAILTO:formacio@ceesc.cat
GEO:41.384613;2.154412
X-APPLE-STRUCTURED-LOCATION;VALUE=URI;X-ADDRESS=Carrer d'Aragó\, 141\, 080
 15 Barcelona\, España;X-APPLE-RADIUS=72;X-TITLE=Barcelona:41.384613;2.154
 412
END:VEVENT
END:VCALENDAR