BEGIN:VCALENDAR
VERSION:2.0
PRODID:Events Booking
BEGIN:VEVENT
UID:69ead276a9d8b
SUMMARY:CURS EN LÍNIA: Disseny de projectes comunitaris contra l’odi: de
  la paraula a l’acció
DESCRIPTION:A partir de l’autodiagnosi i el treball sobre conceptes clau\
 , es facilitaran eines per incorporar la perspectiva interseccional i inte
 rcultural\, i per dissenyar propostes de prevenció del racisme i les disc
 riminacions adaptades als seus contextos. 
DTSTART:20260513T180000Z
DTEND:20260617T200000Z
DTSTAMP:20260424T031622Z
ORGANIZER;CN=CEESC FORMACIÓ:MAILTO:formacio@ceesc.cat
END:VEVENT
END:VCALENDAR