BEGIN:VCALENDAR
VERSION:2.0
PRODID:Events Booking
BEGIN:VEVENT
UID:69e6da49870e5
SUMMARY:ESPAI DE REPRESENTACIÓ INSTITUCIONAL: Plenari de la Comissió Naci
 onal per a una Intervenció Coordinada contra la Violència Masclista
DESCRIPTION:Plenari de la Comissió Nacional per a una Intervenció Coordin
 ada contra la Violència Masclista.
  
LOCATION:Carrer d'Aragó\, 141\, 08015 Barcelona\, España
DTSTART:20260522T160000Z
DTSTAMP:20260421T030041Z
ORGANIZER;CN=CEESC FORMACIÓ:MAILTO:formacio@ceesc.cat
GEO:41.384613;2.154412
X-APPLE-STRUCTURED-LOCATION;VALUE=URI;X-ADDRESS=Carrer d'Aragó\, 141\, 080
 15 Barcelona\, España;X-APPLE-RADIUS=72;X-TITLE=Barcelona:41.384613;2.154
 412
END:VEVENT
END:VCALENDAR