BEGIN:VCALENDAR
VERSION:2.0
PRODID:Events Booking
BEGIN:VEVENT
UID:69ea553c01cda
SUMMARY:21st World Congress of Social Educators - 21è Congrés Mundial d'E
 ducació Social de l'AIEJI
DESCRIPTION:L'AIEJI\, l'Associació Internacional d'Educació Social\, de l
 a qual forma part el CGCEES\, organitza la vint-i-unena edició del Congr
 és Mundial d'Educació Social a Copenhaguen.
DTSTART:20250519T083000Z
DTEND:20250522T124500Z
DTSTAMP:20241106T154726Z
ORGANIZER;CN=CEESC FORMACIÓ:MAILTO:formacio@ceesc.cat
END:VEVENT
END:VCALENDAR