BEGIN:VCALENDAR
VERSION:2.0
PRODID:Events Booking
BEGIN:VEVENT
UID:69e7ec73ce6ec
SUMMARY:La educación de los menores de edad\, un reto de pluralidad y cola
 boración interinstitucional para nuestra sociedad
DESCRIPTION:El curs vol ser un espai de diàleg i aprenentatge sobre un tem
 a de gran impacte a la societat contemporània: la infància i la seva edu
 cació en varietat de contextos: formals\, informals i no formals.
DTSTART:20240715T000000Z
DTEND:20240717T000000Z
DTSTAMP:20260421T223027Z
ORGANIZER;CN=CEESC FORMACIÓ:MAILTO:formacio@ceesc.cat
END:VEVENT
END:VCALENDAR