BEGIN:VCALENDAR
VERSION:2.0
PRODID:Events Booking
BEGIN:VEVENT
UID:69e7ca5a49db5
SUMMARY:ESPAI DE REPRESENTACIÓ INSTITUCIONAL: Grup de Seguiment Tècnic de
  la Comissió Nacional per a una Intervenció Coordinada contra la Violèn
 cia Masclista
DESCRIPTION:Reunió del Grup de Seguiment Tècnic de la Comissió Nacional 
 per a una Intervenció Coordinada contra la Violència Masclista (CNVM).
DTSTART:20260512T100000Z
DTSTAMP:20260421T200458Z
ORGANIZER;CN=CEESC FORMACIÓ:MAILTO:formacio@ceesc.cat
END:VEVENT
END:VCALENDAR