BEGIN:VCALENDAR
VERSION:2.0
PRODID:Events Booking
BEGIN:VEVENT
UID:69e89af66a3a6
SUMMARY:Concurs de narrativa breu de la Intercol·legial de Sèniors
DESCRIPTION:L'Associació Intercol·legial organitza un any més el Concurs
  de narrativa per a col·legiats i col·legiades sèniors membres dels col
 ·legis que formen part de l’Associació Intercol·legial\, i els seus c
 ònjuges\, a partir de 60 anys. Fins al 25 d'octubre.
DTSTART:20241025T000000Z
DTEND:20241025T000000Z
DTSTAMP:20260422T105502Z
ORGANIZER;CN=CEESC FORMACIÓ:MAILTO:formacio@ceesc.cat
END:VEVENT
END:VCALENDAR