BEGIN:VCALENDAR
VERSION:2.0
PRODID:Events Booking
BEGIN:VEVENT
UID:69e9b6bfcd609
SUMMARY:Concurs de Poesia de la Intercol·legial de Sèniors 2025
DESCRIPTION:Concurs de poesia de la Intercol·legial de Sèniors adreçat a
  tots els col·legiats i col·legiades sèniors i els seus cònjuges\, a p
 artir de 60 anys\, que siguin membres dels Col·legis que formen part de l
 ’Associació Intercol·legial. La data límit per presentar les poesies 
 és el 31 d'octubre de 2025.
DTSTART:20251031T000000Z
DTEND:20251031T000000Z
DTSTAMP:20260423T070551Z
ORGANIZER;CN=CEESC FORMACIÓ:MAILTO:formacio@ceesc.cat
END:VEVENT
END:VCALENDAR